BEGIN:VCALENDAR
VERSION:2.0
PRODID:-//Temecula Valley Charter School - ECPv6.15.20//NONSGML v1.0//EN
CALSCALE:GREGORIAN
METHOD:PUBLISH
X-ORIGINAL-URL:https://www.tvcscougars.com
X-WR-CALDESC:Events for Temecula Valley Charter School
REFRESH-INTERVAL;VALUE=DURATION:PT1H
X-Robots-Tag:noindex
X-PUBLISHED-TTL:PT1H
BEGIN:VTIMEZONE
TZID:America/Los_Angeles
BEGIN:DAYLIGHT
TZOFFSETFROM:-0800
TZOFFSETTO:-0700
TZNAME:PDT
DTSTART:20230312T100000
END:DAYLIGHT
BEGIN:STANDARD
TZOFFSETFROM:-0700
TZOFFSETTO:-0800
TZNAME:PST
DTSTART:20231105T090000
END:STANDARD
BEGIN:DAYLIGHT
TZOFFSETFROM:-0800
TZOFFSETTO:-0700
TZNAME:PDT
DTSTART:20240310T100000
END:DAYLIGHT
BEGIN:STANDARD
TZOFFSETFROM:-0700
TZOFFSETTO:-0800
TZNAME:PST
DTSTART:20241103T090000
END:STANDARD
BEGIN:DAYLIGHT
TZOFFSETFROM:-0800
TZOFFSETTO:-0700
TZNAME:PDT
DTSTART:20250309T100000
END:DAYLIGHT
BEGIN:STANDARD
TZOFFSETFROM:-0700
TZOFFSETTO:-0800
TZNAME:PST
DTSTART:20251102T090000
END:STANDARD
END:VTIMEZONE
BEGIN:VEVENT
DTSTART;TZID=America/Los_Angeles:20240912T073000
DTEND;TZID=America/Los_Angeles:20240912T083000
DTSTAMP:20260420T105614
CREATED:20240710T164015Z
LAST-MODIFIED:20240911T184521Z
UID:10000038-1726126200-1726129800@www.tvcscougars.com
SUMMARY:Rush Coffee Truck
DESCRIPTION:
URL:https://www.tvcscougars.com/event/rush-coffee-truck-3/
END:VEVENT
BEGIN:VEVENT
DTSTART;TZID=America/Los_Angeles:20240912T074500
DTEND;TZID=America/Los_Angeles:20240912T083000
DTSTAMP:20260420T105614
CREATED:20240626T202516Z
LAST-MODIFIED:20240911T184521Z
UID:10000013-1726127100-1726129800@www.tvcscougars.com
SUMMARY:English Learner Parent Meeting
DESCRIPTION:
URL:https://www.tvcscougars.com/event/english-learner-parent-meeting/
END:VEVENT
BEGIN:VEVENT
DTSTART;TZID=America/Los_Angeles:20240912T180000
DTEND;TZID=America/Los_Angeles:20240912T190000
DTSTAMP:20260420T105614
CREATED:20240626T202516Z
LAST-MODIFIED:20240912T185555Z
UID:10000014-1726164000-1726167600@www.tvcscougars.com
SUMMARY:TVCS Virtual Volunteer Orientation
DESCRIPTION:Join Zoom Meeting\nhttps://tvcscougars.zoom.us/j/88621828736?pwd=4uyiROJeZyXvnZLjPZK8rltA77Fx5w.1 (ID: 88621828736\, passcode: 833023)\nJoin by phone\n(US) +1 689-278-1000 (passcode: 833023)\nJoining instructions: https://www.google.com/url?q=https://applications.zoom.us/addon/invitation/detail?meetingUuid%3DQo%252FIXyiKQsigbN0TrYDbug%253D%253D%26signature%3D9c73f1521031c571942eddb62cd6b6c7beee6aac13c0fe9fb80800ce7a2f09c1%26v%3D1&sa=D&source=calendar&usg=AOvVaw0p-76L07Ls-4rAY3Bv12ZQ\nMeeting host: cplaxton-hennings@tvcscougars.com \nJoin Zoom Meeting: https://tvcscougars.zoom.us/j/88621828736?pwd=4uyiROJeZyXvnZLjPZK8rltA77Fx5w.1
URL:https://www.tvcscougars.com/event/tvcs-virtual-volunteer-orientation/
END:VEVENT
END:VCALENDAR