BEGIN:VCALENDAR
VERSION:2.0
PRODID:-//Temecula Valley Charter School - ECPv6.15.20//NONSGML v1.0//EN
CALSCALE:GREGORIAN
METHOD:PUBLISH
X-ORIGINAL-URL:https://www.tvcscougars.com
X-WR-CALDESC:Events for Temecula Valley Charter School
REFRESH-INTERVAL;VALUE=DURATION:PT1H
X-Robots-Tag:noindex
X-PUBLISHED-TTL:PT1H
BEGIN:VTIMEZONE
TZID:America/Los_Angeles
BEGIN:DAYLIGHT
TZOFFSETFROM:-0800
TZOFFSETTO:-0700
TZNAME:PDT
DTSTART:20230312T100000
END:DAYLIGHT
BEGIN:STANDARD
TZOFFSETFROM:-0700
TZOFFSETTO:-0800
TZNAME:PST
DTSTART:20231105T090000
END:STANDARD
BEGIN:DAYLIGHT
TZOFFSETFROM:-0800
TZOFFSETTO:-0700
TZNAME:PDT
DTSTART:20240310T100000
END:DAYLIGHT
BEGIN:STANDARD
TZOFFSETFROM:-0700
TZOFFSETTO:-0800
TZNAME:PST
DTSTART:20241103T090000
END:STANDARD
BEGIN:DAYLIGHT
TZOFFSETFROM:-0800
TZOFFSETTO:-0700
TZNAME:PDT
DTSTART:20250309T100000
END:DAYLIGHT
BEGIN:STANDARD
TZOFFSETFROM:-0700
TZOFFSETTO:-0800
TZNAME:PST
DTSTART:20251102T090000
END:STANDARD
END:VTIMEZONE
BEGIN:VEVENT
DTSTART;TZID=America/Los_Angeles:20241003T073000
DTEND;TZID=America/Los_Angeles:20241003T083000
DTSTAMP:20260420T094015
CREATED:20240710T164028Z
LAST-MODIFIED:20241002T220052Z
UID:10000041-1727940600-1727944200@www.tvcscougars.com
SUMMARY:Rush Coffee Truck
DESCRIPTION:
URL:https://www.tvcscougars.com/event/rush-coffee-truck-6/
END:VEVENT
BEGIN:VEVENT
DTSTART;TZID=America/Los_Angeles:20241003T153000
DTEND;TZID=America/Los_Angeles:20241003T173000
DTSTAMP:20260420T094015
CREATED:20240912T185528Z
LAST-MODIFIED:20241003T223217Z
UID:10000197-1727969400-1727976600@www.tvcscougars.com
SUMMARY:VB away @ Linfield
DESCRIPTION:
URL:https://www.tvcscougars.com/event/vb-away-games/
END:VEVENT
END:VCALENDAR