BEGIN:VCALENDAR
VERSION:2.0
PRODID:-//Temecula Valley Charter School - ECPv6.15.20//NONSGML v1.0//EN
CALSCALE:GREGORIAN
METHOD:PUBLISH
X-WR-CALNAME:Temecula Valley Charter School
X-ORIGINAL-URL:https://www.tvcscougars.com
X-WR-CALDESC:Events for Temecula Valley Charter School
REFRESH-INTERVAL;VALUE=DURATION:PT1H
X-Robots-Tag:noindex
X-PUBLISHED-TTL:PT1H
BEGIN:VTIMEZONE
TZID:America/Los_Angeles
BEGIN:DAYLIGHT
TZOFFSETFROM:-0800
TZOFFSETTO:-0700
TZNAME:PDT
DTSTART:20230312T100000
END:DAYLIGHT
BEGIN:STANDARD
TZOFFSETFROM:-0700
TZOFFSETTO:-0800
TZNAME:PST
DTSTART:20231105T090000
END:STANDARD
BEGIN:DAYLIGHT
TZOFFSETFROM:-0800
TZOFFSETTO:-0700
TZNAME:PDT
DTSTART:20240310T100000
END:DAYLIGHT
BEGIN:STANDARD
TZOFFSETFROM:-0700
TZOFFSETTO:-0800
TZNAME:PST
DTSTART:20241103T090000
END:STANDARD
BEGIN:DAYLIGHT
TZOFFSETFROM:-0800
TZOFFSETTO:-0700
TZNAME:PDT
DTSTART:20250309T100000
END:DAYLIGHT
BEGIN:STANDARD
TZOFFSETFROM:-0700
TZOFFSETTO:-0800
TZNAME:PST
DTSTART:20251102T090000
END:STANDARD
END:VTIMEZONE
BEGIN:VEVENT
DTSTART;TZID=America/Los_Angeles:20240906T180000
DTEND;TZID=America/Los_Angeles:20240906T200000
DTSTAMP:20260420T164421
CREATED:20240626T202503Z
LAST-MODIFIED:20240906T175719Z
UID:10000011-1725645600-1725652800@www.tvcscougars.com
SUMMARY:Middle School "Glow Dance"
DESCRIPTION:6:00 to 8:00 pm
URL:https://www.tvcscougars.com/event/middle-school-glow-dance/
END:VEVENT
BEGIN:VEVENT
DTSTART;TZID=America/Los_Angeles:20240906T080000
DTEND;TZID=America/Los_Angeles:20240906T084500
DTSTAMP:20260420T164421
CREATED:20240626T202502Z
LAST-MODIFIED:20240905T214429Z
UID:10000010-1725609600-1725612300@www.tvcscougars.com
SUMMARY:Diet Coke & Tea with the ED
DESCRIPTION:
URL:https://www.tvcscougars.com/event/diet-coke-tea-with-the-ed/
END:VEVENT
BEGIN:VEVENT
DTSTART;TZID=America/Los_Angeles:20240905T073000
DTEND;TZID=America/Los_Angeles:20240905T083000
DTSTAMP:20260420T164421
CREATED:20240710T164014Z
LAST-MODIFIED:20240904T174530Z
UID:10000037-1725521400-1725525000@www.tvcscougars.com
SUMMARY:Rush Coffee Truck
DESCRIPTION:
URL:https://www.tvcscougars.com/event/rush-coffee-truck-2/
END:VEVENT
BEGIN:VEVENT
DTSTART;TZID=America/Los_Angeles:20240904T163000
DTEND;TZID=America/Los_Angeles:20240904T173000
DTSTAMP:20260420T164421
CREATED:20240828T155539Z
LAST-MODIFIED:20240904T174530Z
UID:10000180-1725467400-1725471000@www.tvcscougars.com
SUMMARY:Home Football Game 3:30 (JV) & 4:30 (Varsity)
DESCRIPTION:
URL:https://www.tvcscougars.com/event/home-football-game-330-jv-430-varsity/
END:VEVENT
BEGIN:VEVENT
DTSTART;TZID=America/Los_Angeles:20240904T160000
DTEND;TZID=America/Los_Angeles:20240904T200000
DTSTAMP:20260420T164421
CREATED:20240710T164014Z
LAST-MODIFIED:20240904T174530Z
UID:10000036-1725465600-1725480000@www.tvcscougars.com
SUMMARY:Family Night Out at Chipotle
DESCRIPTION:
URL:https://www.tvcscougars.com/event/family-night-out-at-chipotle/
END:VEVENT
BEGIN:VEVENT
DTSTART;TZID=America/Los_Angeles:20240831T160000
DTEND;TZID=America/Los_Angeles:20240831T200000
DTSTAMP:20260420T164421
CREATED:20240626T202502Z
LAST-MODIFIED:20240827T154330Z
UID:10000009-1725120000-1725134400@www.tvcscougars.com
SUMMARY:TVCS Family Night Out-Chipotle
DESCRIPTION:
URL:https://www.tvcscougars.com/event/tvcs-family-night-out-chipotle/
END:VEVENT
BEGIN:VEVENT
DTSTART;TZID=America/Los_Angeles:20240830T083000
DTEND;TZID=America/Los_Angeles:20240830T091500
DTSTAMP:20260420T164421
CREATED:20240626T202501Z
LAST-MODIFIED:20240830T161359Z
UID:10000008-1725006600-1725009300@www.tvcscougars.com
SUMMARY:Volunteer Orientation
DESCRIPTION:Required for all individuals wishing to volunteer who have not been through a volunteer orientation.
URL:https://www.tvcscougars.com/event/volunteer-orientation/
END:VEVENT
BEGIN:VEVENT
DTSTART;TZID=America/Los_Angeles:20240829T073000
DTEND;TZID=America/Los_Angeles:20240829T083000
DTSTAMP:20260420T164421
CREATED:20240710T163959Z
LAST-MODIFIED:20240828T155558Z
UID:10000035-1724916600-1724920200@www.tvcscougars.com
SUMMARY:Rush Coffee Truck
DESCRIPTION:
URL:https://www.tvcscougars.com/event/rush-coffee-truck/
END:VEVENT
BEGIN:VEVENT
DTSTART;TZID=America/Los_Angeles:20240828T131500
DTEND;TZID=America/Los_Angeles:20240828T133000
DTSTAMP:20260420T164421
CREATED:20240827T154108Z
LAST-MODIFIED:20240828T155558Z
UID:10000178-1724850900-1724851800@www.tvcscougars.com
SUMMARY:Fall Sports Pep Rally
DESCRIPTION:
URL:https://www.tvcscougars.com/event/fall-sports-pep-rally/
END:VEVENT
BEGIN:VEVENT
DTSTART;TZID=America/Los_Angeles:20240828T073000
DTEND;TZID=America/Los_Angeles:20240828T083000
DTSTAMP:20260420T164421
CREATED:20240626T202501Z
LAST-MODIFIED:20240827T154329Z
UID:10000007-1724830200-1724833800@www.tvcscougars.com
SUMMARY:Krispy Kreme Donut Fundraiser
DESCRIPTION:
URL:https://www.tvcscougars.com/event/krispy-kreme-donut-fundraiser/
END:VEVENT
BEGIN:VEVENT
DTSTART;VALUE=DATE:20240828
DTEND;VALUE=DATE:20240829
DTSTAMP:20260420T164421
CREATED:20240626T202500Z
LAST-MODIFIED:20240827T154329Z
UID:10000006-1724803200-1724889599@www.tvcscougars.com
SUMMARY:Fall Picture Day
DESCRIPTION:
URL:https://www.tvcscougars.com/event/fall-picture-day/
END:VEVENT
BEGIN:VEVENT
DTSTART;VALUE=DATE:20240822
DTEND;VALUE=DATE:20240823
DTSTAMP:20260420T164421
CREATED:20240710T163958Z
LAST-MODIFIED:20240822T150253Z
UID:10000034-1724284800-1724371199@www.tvcscougars.com
SUMMARY:Back to School Night
DESCRIPTION:2 sessions\n5:00PM\n5:30PM
URL:https://www.tvcscougars.com/event/back-to-school-night-2/
END:VEVENT
BEGIN:VEVENT
DTSTART;TZID=America/Los_Angeles:20240816T143000
DTEND;TZID=America/Los_Angeles:20240816T153000
DTSTAMP:20260420T164421
CREATED:20240626T202459Z
LAST-MODIFIED:20240816T134248Z
UID:10000004-1723818600-1723822200@www.tvcscougars.com
SUMMARY:Kona Ice Truck (MS Lunch and After School)
DESCRIPTION:
URL:https://www.tvcscougars.com/event/kona-ice-truck-ms-lunch-and-after-school/
END:VEVENT
BEGIN:VEVENT
DTSTART;VALUE=DATE:20240814
DTEND;VALUE=DATE:20240815
DTSTAMP:20260420T164421
CREATED:20240625T161919Z
LAST-MODIFIED:20240813T235700Z
UID:10000002-1723593600-1723679999@www.tvcscougars.com
SUMMARY:First Day of School!
DESCRIPTION:
URL:https://www.tvcscougars.com/event/first-day-of-school/
END:VEVENT
BEGIN:VEVENT
DTSTART;TZID=America/Los_Angeles:20240813T143000
DTEND;TZID=America/Los_Angeles:20240813T160000
DTSTAMP:20260420T164422
CREATED:20240626T202459Z
LAST-MODIFIED:20240719T183347Z
UID:10000003-1723559400-1723564800@www.tvcscougars.com
SUMMARY:Ice Cream Social and TK/Kinder Meet and Greet
DESCRIPTION:
URL:https://www.tvcscougars.com/event/ice-cream-social-and-tk-kinder-meet-and-greet/
END:VEVENT
BEGIN:VEVENT
DTSTART;VALUE=DATE:20240701
DTEND;VALUE=DATE:20240706
DTSTAMP:20260420T164422
CREATED:20240627T144857Z
LAST-MODIFIED:20240705T160548Z
UID:10000028-1719792000-1720223999@www.tvcscougars.com
SUMMARY:TVCS Offices Closed
DESCRIPTION:Hello TVCS Families\, Our offices will be closed from July 1st-July5th. We will return emails and phone calls when staff return on July 8th. \nWe hope you are having a wonderful summer!
URL:https://www.tvcscougars.com/event/tvcs-offices-closed/
END:VEVENT
END:VCALENDAR