BEGIN:VCALENDAR
VERSION:2.0
PRODID:-//Temecula Valley Charter School - ECPv6.15.20//NONSGML v1.0//EN
CALSCALE:GREGORIAN
METHOD:PUBLISH
X-WR-CALNAME:Temecula Valley Charter School
X-ORIGINAL-URL:https://www.tvcscougars.com
X-WR-CALDESC:Events for Temecula Valley Charter School
REFRESH-INTERVAL;VALUE=DURATION:PT1H
X-Robots-Tag:noindex
X-PUBLISHED-TTL:PT1H
BEGIN:VTIMEZONE
TZID:America/Los_Angeles
BEGIN:DAYLIGHT
TZOFFSETFROM:-0800
TZOFFSETTO:-0700
TZNAME:PDT
DTSTART:20230312T100000
END:DAYLIGHT
BEGIN:STANDARD
TZOFFSETFROM:-0700
TZOFFSETTO:-0800
TZNAME:PST
DTSTART:20231105T090000
END:STANDARD
BEGIN:DAYLIGHT
TZOFFSETFROM:-0800
TZOFFSETTO:-0700
TZNAME:PDT
DTSTART:20240310T100000
END:DAYLIGHT
BEGIN:STANDARD
TZOFFSETFROM:-0700
TZOFFSETTO:-0800
TZNAME:PST
DTSTART:20241103T090000
END:STANDARD
BEGIN:DAYLIGHT
TZOFFSETFROM:-0800
TZOFFSETTO:-0700
TZNAME:PDT
DTSTART:20250309T100000
END:DAYLIGHT
BEGIN:STANDARD
TZOFFSETFROM:-0700
TZOFFSETTO:-0800
TZNAME:PST
DTSTART:20251102T090000
END:STANDARD
BEGIN:DAYLIGHT
TZOFFSETFROM:-0800
TZOFFSETTO:-0700
TZNAME:PDT
DTSTART:20260308T100000
END:DAYLIGHT
BEGIN:STANDARD
TZOFFSETFROM:-0700
TZOFFSETTO:-0800
TZNAME:PST
DTSTART:20261101T090000
END:STANDARD
END:VTIMEZONE
BEGIN:VEVENT
DTSTART;TZID=America/Los_Angeles:20241121T073000
DTEND;TZID=America/Los_Angeles:20241121T083000
DTSTAMP:20260420T223313
CREATED:20240710T164101Z
LAST-MODIFIED:20241121T145743Z
UID:10000055-1732174200-1732177800@www.tvcscougars.com
SUMMARY:Rush Coffee Truck
DESCRIPTION:
URL:https://www.tvcscougars.com/event/rush-coffee-truck-13/
END:VEVENT
BEGIN:VEVENT
DTSTART;TZID=America/Los_Angeles:20241121T150000
DTEND;TZID=America/Los_Angeles:20241121T170000
DTSTAMP:20260420T223313
CREATED:20241010T232805Z
LAST-MODIFIED:20241121T145743Z
UID:10000212-1732201200-1732208400@www.tvcscougars.com
SUMMARY:Baseball Home
DESCRIPTION:
URL:https://www.tvcscougars.com/event/baseball-home-3/
END:VEVENT
BEGIN:VEVENT
DTSTART;TZID=America/Los_Angeles:20241128T073000
DTEND;TZID=America/Los_Angeles:20241128T083000
DTSTAMP:20260420T223313
CREATED:20240710T164101Z
LAST-MODIFIED:20241128T155831Z
UID:10000056-1732779000-1732782600@www.tvcscougars.com
SUMMARY:Rush Coffee Truck
DESCRIPTION:
URL:https://www.tvcscougars.com/event/rush-coffee-truck-14/
END:VEVENT
BEGIN:VEVENT
DTSTART;VALUE=DATE:20241202
DTEND;VALUE=DATE:20241214
DTSTAMP:20260420T223313
CREATED:20240710T164104Z
LAST-MODIFIED:20241125T153728Z
UID:10000060-1733097600-1734134399@www.tvcscougars.com
SUMMARY:Santa Paws Holiday Store
DESCRIPTION:
URL:https://www.tvcscougars.com/event/santa-paws-holiday-store/
END:VEVENT
BEGIN:VEVENT
DTSTART;VALUE=DATE:20241204
DTEND;VALUE=DATE:20241205
DTSTAMP:20260420T223313
CREATED:20240710T164102Z
LAST-MODIFIED:20241204T171542Z
UID:10000057-1733270400-1733356799@www.tvcscougars.com
SUMMARY:6th Grade Egypt Faire
DESCRIPTION:
URL:https://www.tvcscougars.com/event/6th-grade-egypt-faire/
END:VEVENT
BEGIN:VEVENT
DTSTART;TZID=America/Los_Angeles:20241205T073000
DTEND;TZID=America/Los_Angeles:20241205T083000
DTSTAMP:20260420T223313
CREATED:20240710T164103Z
LAST-MODIFIED:20241204T171542Z
UID:10000058-1733383800-1733387400@www.tvcscougars.com
SUMMARY:Rush Coffee Truck
DESCRIPTION:
URL:https://www.tvcscougars.com/event/rush-coffee-truck-15/
END:VEVENT
BEGIN:VEVENT
DTSTART;TZID=America/Los_Angeles:20241210T150000
DTEND;TZID=America/Los_Angeles:20241210T170000
DTSTAMP:20260420T223313
CREATED:20241010T232819Z
LAST-MODIFIED:20241210T182917Z
UID:10000214-1733842800-1733850000@www.tvcscougars.com
SUMMARY:Baseball away
DESCRIPTION:
URL:https://www.tvcscougars.com/event/baseball-away-4/
END:VEVENT
BEGIN:VEVENT
DTSTART;TZID=America/Los_Angeles:20241212T073000
DTEND;TZID=America/Los_Angeles:20241212T083000
DTSTAMP:20260420T223313
CREATED:20240710T164103Z
LAST-MODIFIED:20241211T183109Z
UID:10000059-1733988600-1733992200@www.tvcscougars.com
SUMMARY:Rush Coffee Truck
DESCRIPTION:
URL:https://www.tvcscougars.com/event/rush-coffee-truck-16/
END:VEVENT
BEGIN:VEVENT
DTSTART;TZID=America/Los_Angeles:20241216T150000
DTEND;TZID=America/Los_Angeles:20241216T170000
DTSTAMP:20260420T223313
CREATED:20241211T182918Z
LAST-MODIFIED:20241216T194417Z
UID:10000234-1734361200-1734368400@www.tvcscougars.com
SUMMARY:Baseball playoff game - Away
DESCRIPTION:
URL:https://www.tvcscougars.com/event/baseball-playoff-game-away/
END:VEVENT
BEGIN:VEVENT
DTSTART;VALUE=DATE:20241219
DTEND;VALUE=DATE:20241220
DTSTAMP:20260420T223313
CREATED:20240710T164105Z
LAST-MODIFIED:20241219T201501Z
UID:10000062-1734566400-1734652799@www.tvcscougars.com
SUMMARY:Holiday Show
DESCRIPTION:
URL:https://www.tvcscougars.com/event/holiday-show/
END:VEVENT
BEGIN:VEVENT
DTSTART;VALUE=DATE:20241219
DTEND;VALUE=DATE:20241220
DTSTAMP:20260420T223313
CREATED:20240710T164118Z
LAST-MODIFIED:20241219T201459Z
UID:10000063-1734566400-1734652799@www.tvcscougars.com
SUMMARY:Positive Attendance Celebration
DESCRIPTION:
URL:https://www.tvcscougars.com/event/positive-attendance-celebration/
END:VEVENT
BEGIN:VEVENT
DTSTART;TZID=America/Los_Angeles:20241219T073000
DTEND;TZID=America/Los_Angeles:20241219T083000
DTSTAMP:20260420T223313
CREATED:20240710T164119Z
LAST-MODIFIED:20241218T201033Z
UID:10000064-1734593400-1734597000@www.tvcscougars.com
SUMMARY:Rush Coffee Truck
DESCRIPTION:
URL:https://www.tvcscougars.com/event/rush-coffee-truck-17/
END:VEVENT
BEGIN:VEVENT
DTSTART;VALUE=DATE:20241220
DTEND;VALUE=DATE:20241221
DTSTAMP:20260420T223313
CREATED:20240710T164119Z
LAST-MODIFIED:20241220T203405Z
UID:10000065-1734652800-1734739199@www.tvcscougars.com
SUMMARY:Holiday Spirit Day
DESCRIPTION:
URL:https://www.tvcscougars.com/event/holiday-spirit-day/
END:VEVENT
BEGIN:VEVENT
DTSTART;VALUE=DATE:20241220
DTEND;VALUE=DATE:20241221
DTSTAMP:20260420T223313
CREATED:20241026T155807Z
LAST-MODIFIED:20241220T203406Z
UID:10000217-1734652800-1734739199@www.tvcscougars.com
SUMMARY:End of First Semester
DESCRIPTION:
URL:https://www.tvcscougars.com/event/end-of-first-semester/
END:VEVENT
BEGIN:VEVENT
DTSTART;VALUE=DATE:20241223
DTEND;VALUE=DATE:20250104
DTSTAMP:20260420T223313
CREATED:20241026T155807Z
LAST-MODIFIED:20250103T224654Z
UID:10000218-1734912000-1735948799@www.tvcscougars.com
SUMMARY:Winter Break
DESCRIPTION:
URL:https://www.tvcscougars.com/event/winter-break/
END:VEVENT
BEGIN:VEVENT
DTSTART;TZID=America/Los_Angeles:20241226T073000
DTEND;TZID=America/Los_Angeles:20241226T083000
DTSTAMP:20260420T223313
CREATED:20240710T164119Z
LAST-MODIFIED:20241225T212836Z
UID:10000066-1735198200-1735201800@www.tvcscougars.com
SUMMARY:Rush Coffee Truck
DESCRIPTION:
URL:https://www.tvcscougars.com/event/rush-coffee-truck-18/
END:VEVENT
BEGIN:VEVENT
DTSTART;TZID=America/Los_Angeles:20250102T073000
DTEND;TZID=America/Los_Angeles:20250102T083000
DTSTAMP:20260420T223313
CREATED:20240710T164120Z
LAST-MODIFIED:20250101T224504Z
UID:10000067-1735803000-1735806600@www.tvcscougars.com
SUMMARY:Rush Coffee Truck
DESCRIPTION:
URL:https://www.tvcscougars.com/event/rush-coffee-truck-19/
END:VEVENT
BEGIN:VEVENT
DTSTART;VALUE=DATE:20250106
DTEND;VALUE=DATE:20250107
DTSTAMP:20260420T223313
CREATED:20240710T164120Z
LAST-MODIFIED:20250106T225958Z
UID:10000068-1736121600-1736207999@www.tvcscougars.com
SUMMARY:No School - Teacher Professional Development Day
DESCRIPTION:
URL:https://www.tvcscougars.com/event/no-school-teacher-professional-development-day-3/
END:VEVENT
BEGIN:VEVENT
DTSTART;TZID=America/Los_Angeles:20250109T073000
DTEND;TZID=America/Los_Angeles:20250109T083000
DTSTAMP:20260420T223313
CREATED:20240710T164120Z
LAST-MODIFIED:20250108T230053Z
UID:10000069-1736407800-1736411400@www.tvcscougars.com
SUMMARY:Rush Coffee Truck
DESCRIPTION:
URL:https://www.tvcscougars.com/event/rush-coffee-truck-20/
END:VEVENT
BEGIN:VEVENT
DTSTART;VALUE=DATE:20250114
DTEND;VALUE=DATE:20250115
DTSTAMP:20260420T223313
CREATED:20241026T155821Z
LAST-MODIFIED:20250114T000245Z
UID:10000219-1736812800-1736899199@www.tvcscougars.com
SUMMARY:Final Grades Posted for Fall Semester
DESCRIPTION:
URL:https://www.tvcscougars.com/event/final-grades-posted-for-fall-semester/
END:VEVENT
BEGIN:VEVENT
DTSTART;TZID=America/Los_Angeles:20250114T160000
DTEND;TZID=America/Los_Angeles:20250114T200000
DTSTAMP:20260420T223313
CREATED:20240710T164120Z
LAST-MODIFIED:20250114T000245Z
UID:10000070-1736870400-1736884800@www.tvcscougars.com
SUMMARY:Family Night Out at Panera Bread
DESCRIPTION:
URL:https://www.tvcscougars.com/event/family-night-out-at-panera-bread/
END:VEVENT
BEGIN:VEVENT
DTSTART;VALUE=DATE:20250116
DTEND;VALUE=DATE:20250117
DTSTAMP:20260420T223313
CREATED:20240626T202518Z
LAST-MODIFIED:20250116T140211Z
UID:10000021-1736985600-1737071999@www.tvcscougars.com
SUMMARY:(Postponed) 8th Grade Field Trip @ Museum of Tolerance
DESCRIPTION:
URL:https://www.tvcscougars.com/event/8th-grade-field-trip-museum-of-tolerance/
END:VEVENT
BEGIN:VEVENT
DTSTART;VALUE=DATE:20250116
DTEND;VALUE=DATE:20250117
DTSTAMP:20260420T223313
CREATED:20250106T225732Z
LAST-MODIFIED:20250116T140211Z
UID:10000246-1736985600-1737071999@www.tvcscougars.com
SUMMARY:6th Grade Field Trip @ Air and Space Museum
DESCRIPTION:
URL:https://www.tvcscougars.com/event/6th-grade-field-trip-air-and-space-museum/
END:VEVENT
BEGIN:VEVENT
DTSTART;TZID=America/Los_Angeles:20250116T073000
DTEND;TZID=America/Los_Angeles:20250116T083000
DTSTAMP:20260420T223313
CREATED:20240710T164121Z
LAST-MODIFIED:20250116T140211Z
UID:10000071-1737012600-1737016200@www.tvcscougars.com
SUMMARY:Rush Coffee Truck
DESCRIPTION:
URL:https://www.tvcscougars.com/event/rush-coffee-truck-21/
END:VEVENT
BEGIN:VEVENT
DTSTART;TZID=America/Los_Angeles:20250117T081500
DTEND;TZID=America/Los_Angeles:20250117T091500
DTSTAMP:20260420T223313
CREATED:20250107T225728Z
LAST-MODIFIED:20250117T140648Z
UID:10000251-1737101700-1737105300@www.tvcscougars.com
SUMMARY:Middle School Awards Ceremony
DESCRIPTION:8:15AM in MPR
URL:https://www.tvcscougars.com/event/middle-school-awards-ceremony/
END:VEVENT
BEGIN:VEVENT
DTSTART;VALUE=DATE:20250121
DTEND;VALUE=DATE:20250122
DTSTAMP:20260420T223313
CREATED:20240626T202518Z
LAST-MODIFIED:20241205T172002Z
UID:10000020-1737417600-1737503999@www.tvcscougars.com
SUMMARY:2nd Grade Field Trip @ Discovery Science
DESCRIPTION:
URL:https://www.tvcscougars.com/event/2nd-grade-field-trip-discovery-science/
END:VEVENT
BEGIN:VEVENT
DTSTART;TZID=America/Los_Angeles:20250121T163000
DTEND;TZID=America/Los_Angeles:20250121T173000
DTSTAMP:20260420T223313
CREATED:20241220T202816Z
LAST-MODIFIED:20250121T143304Z
UID:10000236-1737477000-1737480600@www.tvcscougars.com
SUMMARY:Basketball away
DESCRIPTION:
URL:https://www.tvcscougars.com/event/basketball-away/
END:VEVENT
BEGIN:VEVENT
DTSTART;VALUE=DATE:20250122
DTEND;VALUE=DATE:20250123
DTSTAMP:20260420T223313
CREATED:20240710T164121Z
LAST-MODIFIED:20250122T144823Z
UID:10000072-1737504000-1737590399@www.tvcscougars.com
SUMMARY:English Language Learner Parent Meeting
DESCRIPTION:
URL:https://www.tvcscougars.com/event/english-language-learner-parent-meeting/
END:VEVENT
BEGIN:VEVENT
DTSTART;TZID=America/Los_Angeles:20250123T073000
DTEND;TZID=America/Los_Angeles:20250123T083000
DTSTAMP:20260420T223313
CREATED:20240710T164135Z
LAST-MODIFIED:20250123T145933Z
UID:10000073-1737617400-1737621000@www.tvcscougars.com
SUMMARY:Rush Coffee Truck
DESCRIPTION:
URL:https://www.tvcscougars.com/event/rush-coffee-truck-22/
END:VEVENT
BEGIN:VEVENT
DTSTART;VALUE=DATE:20250125
DTEND;VALUE=DATE:20250126
DTSTAMP:20260420T223313
CREATED:20250106T225746Z
LAST-MODIFIED:20250125T153847Z
UID:10000247-1737763200-1737849599@www.tvcscougars.com
SUMMARY:Math League Competition at TVCS
DESCRIPTION:12PM – 5PM in MPR
URL:https://www.tvcscougars.com/event/math-league-competition-at-tvcs/
END:VEVENT
END:VCALENDAR